BEGIN:VCALENDAR
VERSION:2.0
PRODID:-//Republican Party of Pennsylvania - ECPv6.15.20//NONSGML v1.0//EN
CALSCALE:GREGORIAN
METHOD:PUBLISH
X-WR-CALNAME:Republican Party of Pennsylvania
X-ORIGINAL-URL:https://pagop.org
X-WR-CALDESC:Events for Republican Party of Pennsylvania
REFRESH-INTERVAL;VALUE=DURATION:PT1H
X-Robots-Tag:noindex
X-PUBLISHED-TTL:PT1H
BEGIN:VTIMEZONE
TZID:America/New_York
BEGIN:DAYLIGHT
TZOFFSETFROM:-0500
TZOFFSETTO:-0400
TZNAME:EDT
DTSTART:20250309T070000
END:DAYLIGHT
BEGIN:STANDARD
TZOFFSETFROM:-0400
TZOFFSETTO:-0500
TZNAME:EST
DTSTART:20251102T060000
END:STANDARD
BEGIN:DAYLIGHT
TZOFFSETFROM:-0500
TZOFFSETTO:-0400
TZNAME:EDT
DTSTART:20260308T070000
END:DAYLIGHT
BEGIN:STANDARD
TZOFFSETFROM:-0400
TZOFFSETTO:-0500
TZNAME:EST
DTSTART:20261101T060000
END:STANDARD
BEGIN:DAYLIGHT
TZOFFSETFROM:-0500
TZOFFSETTO:-0400
TZNAME:EDT
DTSTART:20270314T070000
END:DAYLIGHT
BEGIN:STANDARD
TZOFFSETFROM:-0400
TZOFFSETTO:-0500
TZNAME:EST
DTSTART:20271107T060000
END:STANDARD
END:VTIMEZONE
BEGIN:VEVENT
DTSTART;TZID=America/New_York:20260424T090000
DTEND;TZID=America/New_York:20260424T110000
DTSTAMP:20260424T074919
CREATED:20260329T183243Z
LAST-MODIFIED:20260329T183347Z
UID:10000293-1777021200-1777028400@pagop.org
SUMMARY:Chester County Spring Breakfast Reception
DESCRIPTION:Meet Your 2026 Chester County Republican Candidates \n\n\n\nThe Republican Committee of Chester County cordially invites you to our \n\n\n\nSpring Breakfast Reception\n\n\n\nFeaturing Special Guest Speaker Jason Richey Candidate for Pennsylvania Lt. Governor \n\n\n\nWhen: Friday\, April 24\, 2026 Time: 9:00 AM – 11:00 AM EST Where: Fox Barn at Twenty9 16 Great Valley Parkway\, Malvern\, PA 19355 \n\n\n\nCost: $55 per person \n\n\n\nRSVP by April 17th HQ@Republicanccc.com \n\n\n\nChecks payable to: Republican Committee of Chester County 15 S. Church St\, West Chester\, PA 19382 \n\n\n\nPaid for by the Republican Committee of Chester County
URL:https://pagop.org/details/chester-county-spring-breakfast-reception/
ATTACH;FMTTYPE=image/jpeg:https://pagop.org/wp-content/uploads/2026/03/923C0AF6-8D5D-4C71-B96B-7A8B9C17C857.jpeg
END:VEVENT
BEGIN:VEVENT
DTSTART;TZID=America/New_York:20260424T173000
DTEND;TZID=America/New_York:20260424T193000
DTSTAMP:20260424T074919
CREATED:20260409T154646Z
LAST-MODIFIED:20260409T154653Z
UID:10000304-1777051800-1777059000@pagop.org
SUMMARY:George Margetas Reception
DESCRIPTION:You are cordially invited to a reception in support of George Margetas Republican Nominee in the May 19th Special Election for the 196th House District & Republican Candidate in the May 19th Republican Primary \n\n\n\nHosted by PA Attorney General Dave Sunday Sen. Kristin Phillips-Hill Sen. Dawn Keefer Rep. Kate Klunk Rep. Mike Jones Rep. Joe D’Orsie Rep. Wendy Fink Rep. Marc Anderson District Attorney Tim Barker and Sheriff Rich Keuerleber \n\n\n\nWith Special Guests Congressman Scott Perry Congressman Lloyd Smucker \n\n\n\nFriday\, April 24\, 2026 5:30 – 7:30 pm\n\n\n\nThe Clubhouse at Ben Franklin 1350 Woodberry Road\, York\, PA 17408 \n\n\n\n$5\,000 – Platinum | $1\,000 – Gold | $500 – Silver $250 – Bronze | $150 – Couple | $100 – Guest \n\n\n\nTo RSVP contact Rebecca Ream Weigle of R&W Partners\, LLC at rwpartnersllc@gmail.com or 717-873-6217 or return the card below. \n\n\n\nLearn more at VoteMargetas.com \n\n\n\nPaid for by Friends of George Margetas
URL:https://pagop.org/details/george-margetas-reception/
ATTACH;FMTTYPE=image/jpeg:https://pagop.org/wp-content/uploads/2026/04/62E02073-09B8-4CE8-A383-ABCB7EEDC321.jpeg
END:VEVENT
END:VCALENDAR