BEGIN:VCALENDAR
VERSION:2.0
PRODID:-//Republican Party of Pennsylvania - ECPv6.15.20//NONSGML v1.0//EN
CALSCALE:GREGORIAN
METHOD:PUBLISH
X-WR-CALNAME:Republican Party of Pennsylvania
X-ORIGINAL-URL:https://pagop.org
X-WR-CALDESC:Events for Republican Party of Pennsylvania
REFRESH-INTERVAL;VALUE=DURATION:PT1H
X-Robots-Tag:noindex
X-PUBLISHED-TTL:PT1H
BEGIN:VTIMEZONE
TZID:America/New_York
BEGIN:DAYLIGHT
TZOFFSETFROM:-0500
TZOFFSETTO:-0400
TZNAME:EDT
DTSTART:20250309T070000
END:DAYLIGHT
BEGIN:STANDARD
TZOFFSETFROM:-0400
TZOFFSETTO:-0500
TZNAME:EST
DTSTART:20251102T060000
END:STANDARD
BEGIN:DAYLIGHT
TZOFFSETFROM:-0500
TZOFFSETTO:-0400
TZNAME:EDT
DTSTART:20260308T070000
END:DAYLIGHT
BEGIN:STANDARD
TZOFFSETFROM:-0400
TZOFFSETTO:-0500
TZNAME:EST
DTSTART:20261101T060000
END:STANDARD
BEGIN:DAYLIGHT
TZOFFSETFROM:-0500
TZOFFSETTO:-0400
TZNAME:EDT
DTSTART:20270314T070000
END:DAYLIGHT
BEGIN:STANDARD
TZOFFSETFROM:-0400
TZOFFSETTO:-0500
TZNAME:EST
DTSTART:20271107T060000
END:STANDARD
END:VTIMEZONE
BEGIN:VEVENT
DTSTART;TZID=America/New_York:20260422T173000
DTEND;TZID=America/New_York:20260422T190000
DTSTAMP:20260422T072744
CREATED:20260408T122000Z
LAST-MODIFIED:20260408T122007Z
UID:10000303-1776879000-1776884400@pagop.org
SUMMARY:Klunk Reception
DESCRIPTION:You’re Invited! \n\n\n\nYou are cordially invited to a reception for Rep. Kate Klunk Republican\, 169th District\, York County \n\n\n\nWednesday\, April 22\, 2026 5:30 – 7:00 pm\n\n\n\nEichelberger Performing Arts Center Conservatory 195 Stock St.\, Suite 203\, Hanover\, PA 17331 \n\n\n\n$2\,500 – Diamond$1\,000 – Gold $500 – Silver$250 – Bronze$75 – Couple$50 – Individual \n\n\n\nFor questions and to RSVP please contact Rebecca Ream Weigle\, R&W Partners\, LLC at 717-873-6217 or by email at rwpartnersllc@gmail.com or return the card below. \n\n\n\nPaid for by Friends of Kate Klunk
URL:https://pagop.org/details/klunk-reception/
ATTACH;FMTTYPE=image/jpeg:https://pagop.org/wp-content/uploads/2026/04/E45D9434-96E9-4108-9772-EF04BA35C96A.jpeg
END:VEVENT
END:VCALENDAR