BEGIN:VCALENDAR
VERSION:2.0
PRODID:-//Republican Party of Pennsylvania - ECPv6.15.20//NONSGML v1.0//EN
CALSCALE:GREGORIAN
METHOD:PUBLISH
X-WR-CALNAME:Republican Party of Pennsylvania
X-ORIGINAL-URL:https://pagop.org
X-WR-CALDESC:Events for Republican Party of Pennsylvania
REFRESH-INTERVAL;VALUE=DURATION:PT1H
X-Robots-Tag:noindex
X-PUBLISHED-TTL:PT1H
BEGIN:VTIMEZONE
TZID:America/New_York
BEGIN:DAYLIGHT
TZOFFSETFROM:-0500
TZOFFSETTO:-0400
TZNAME:EDT
DTSTART:20250309T070000
END:DAYLIGHT
BEGIN:STANDARD
TZOFFSETFROM:-0400
TZOFFSETTO:-0500
TZNAME:EST
DTSTART:20251102T060000
END:STANDARD
BEGIN:DAYLIGHT
TZOFFSETFROM:-0500
TZOFFSETTO:-0400
TZNAME:EDT
DTSTART:20260308T070000
END:DAYLIGHT
BEGIN:STANDARD
TZOFFSETFROM:-0400
TZOFFSETTO:-0500
TZNAME:EST
DTSTART:20261101T060000
END:STANDARD
BEGIN:DAYLIGHT
TZOFFSETFROM:-0500
TZOFFSETTO:-0400
TZNAME:EDT
DTSTART:20270314T070000
END:DAYLIGHT
BEGIN:STANDARD
TZOFFSETFROM:-0400
TZOFFSETTO:-0500
TZNAME:EST
DTSTART:20271107T060000
END:STANDARD
END:VTIMEZONE
BEGIN:VEVENT
DTSTART;TZID=America/New_York:20260418T173000
DTEND;TZID=America/New_York:20260418T200000
DTSTAMP:20260422T052047
CREATED:20260316T124019Z
LAST-MODIFIED:20260316T124027Z
UID:10000281-1776533400-1776542400@pagop.org
SUMMARY:Venango County Lincoln Day Dinner
DESCRIPTION:Venango County Republicans invite you to our \n\n\n\nLincoln Day Dinner\n\n\n\nWith Senator Dave McCormick \n\n\n\n& Jason Richey \n\n\n\nA night of amazing food\, conversations \n\n\n\n50/50\, raffle baskets \n\n\n\nApril 18At 5:30 PMWanango Country Club314 Chestnut Street | Reno\, PA 16343 \n\n\n\nMore info:venangoparepublicans@gmail.com \n\n\n\nCall Carrie at 724-612-6180Tickets $45/single · $80/couple \n\n\n\nScan the QR code | Dress: Business
URL:https://pagop.org/details/venango-county-lincoln-day-dinner/
ATTACH;FMTTYPE=image/webp:https://pagop.org/wp-content/uploads/2026/03/23F6C5D6-6D84-4615-828B-9AA23AB3181E.webp
END:VEVENT
BEGIN:VEVENT
DTSTART;TZID=America/New_York:20260418T173000
DTEND;TZID=America/New_York:20260418T200000
DTSTAMP:20260422T052047
CREATED:20260319T155621Z
LAST-MODIFIED:20260319T155628Z
UID:10000288-1776533400-1776542400@pagop.org
SUMMARY:Erie County Republican Party 2026 Spring Dinner
DESCRIPTION:Blessed to be Celebrating 250 Years of Freedom!\n\n\n\nSaturday\, April 18th 5:30pm VIP | 6:30pm Dinner \n\n\n\n$65 per person General Reservation $100 per person VIP Reservation $1\,200 VIP Table VIP sponsorship includes reception and recognition display \n\n\n\nThe Ambassador Center 7794 Peach Street\, Erie\, PA 16509 \n\n\n\nReserve your seats at www.eriepa.gop Or call Gracie at (814) 746-2370 \n\n\n\nRSVP Deadline: April 6th
URL:https://pagop.org/details/erie-county-republican-party-2026-spring-dinner/
ATTACH;FMTTYPE=image/jpeg:https://pagop.org/wp-content/uploads/2026/03/850ADDC1-4B7D-4E64-ABC2-434B4B39C6AE.jpeg
END:VEVENT
END:VCALENDAR