BEGIN:VCALENDAR
VERSION:2.0
PRODID:-//Republican Party of Pennsylvania - ECPv6.15.20//NONSGML v1.0//EN
CALSCALE:GREGORIAN
METHOD:PUBLISH
X-WR-CALNAME:Republican Party of Pennsylvania
X-ORIGINAL-URL:https://pagop.org
X-WR-CALDESC:Events for Republican Party of Pennsylvania
REFRESH-INTERVAL;VALUE=DURATION:PT1H
X-Robots-Tag:noindex
X-PUBLISHED-TTL:PT1H
BEGIN:VTIMEZONE
TZID:America/New_York
BEGIN:DAYLIGHT
TZOFFSETFROM:-0500
TZOFFSETTO:-0400
TZNAME:EDT
DTSTART:20250309T070000
END:DAYLIGHT
BEGIN:STANDARD
TZOFFSETFROM:-0400
TZOFFSETTO:-0500
TZNAME:EST
DTSTART:20251102T060000
END:STANDARD
BEGIN:DAYLIGHT
TZOFFSETFROM:-0500
TZOFFSETTO:-0400
TZNAME:EDT
DTSTART:20260308T070000
END:DAYLIGHT
BEGIN:STANDARD
TZOFFSETFROM:-0400
TZOFFSETTO:-0500
TZNAME:EST
DTSTART:20261101T060000
END:STANDARD
BEGIN:DAYLIGHT
TZOFFSETFROM:-0500
TZOFFSETTO:-0400
TZNAME:EDT
DTSTART:20270314T070000
END:DAYLIGHT
BEGIN:STANDARD
TZOFFSETFROM:-0400
TZOFFSETTO:-0500
TZNAME:EST
DTSTART:20271107T060000
END:STANDARD
END:VTIMEZONE
BEGIN:VEVENT
DTSTART;TZID=America/New_York:20260417T173000
DTEND;TZID=America/New_York:20260417T200000
DTSTAMP:20260421T061805
CREATED:20260316T124326Z
LAST-MODIFIED:20260316T124336Z
UID:10000282-1776447000-1776456000@pagop.org
SUMMARY:Warren County Republican Spring Dinner
DESCRIPTION:Announcing the Annual \n\n\n\nWarren County Republican Spring Dinner\n\n\n\nFriday\, April 17th\, 2026The Conewango Club201 Market St in Warren \n\n\n\nKeynote Speaker:Lt Governor Candidate Jason Richey \n\n\n\nJoin us for a night of patriotism and fellowship. \n\n\n\nMeet and hear from the candidates vying for your vote in the primary on May 19th and help us congratulate this year’s Emory Mahan & David White Memorial Scholarship winner. \n\n\n\nDoors will open at 5:30 p.m.\, with dinner at 6:00 p.m. \n\n\n\n$50.00/person · Braised Beef Buffet \n\n\n\nReservations are required by contacting \n\n\n\nCraig Fankhouser (814) 688-8381
URL:https://pagop.org/details/warren-county-republican-spring-dinner/
END:VEVENT
END:VCALENDAR