BEGIN:VCALENDAR
VERSION:2.0
PRODID:-//Republican Party of Pennsylvania - ECPv6.15.20//NONSGML v1.0//EN
CALSCALE:GREGORIAN
METHOD:PUBLISH
X-WR-CALNAME:Republican Party of Pennsylvania
X-ORIGINAL-URL:https://pagop.org
X-WR-CALDESC:Events for Republican Party of Pennsylvania
REFRESH-INTERVAL;VALUE=DURATION:PT1H
X-Robots-Tag:noindex
X-PUBLISHED-TTL:PT1H
BEGIN:VTIMEZONE
TZID:America/New_York
BEGIN:DAYLIGHT
TZOFFSETFROM:-0500
TZOFFSETTO:-0400
TZNAME:EDT
DTSTART:20250309T070000
END:DAYLIGHT
BEGIN:STANDARD
TZOFFSETFROM:-0400
TZOFFSETTO:-0500
TZNAME:EST
DTSTART:20251102T060000
END:STANDARD
BEGIN:DAYLIGHT
TZOFFSETFROM:-0500
TZOFFSETTO:-0400
TZNAME:EDT
DTSTART:20260308T070000
END:DAYLIGHT
BEGIN:STANDARD
TZOFFSETFROM:-0400
TZOFFSETTO:-0500
TZNAME:EST
DTSTART:20261101T060000
END:STANDARD
BEGIN:DAYLIGHT
TZOFFSETFROM:-0500
TZOFFSETTO:-0400
TZNAME:EDT
DTSTART:20270314T070000
END:DAYLIGHT
BEGIN:STANDARD
TZOFFSETFROM:-0400
TZOFFSETTO:-0500
TZNAME:EST
DTSTART:20271107T060000
END:STANDARD
END:VTIMEZONE
BEGIN:VEVENT
DTSTART;TZID=America/New_York:20260416T170000
DTEND;TZID=America/New_York:20260416T210000
DTSTAMP:20260422T060757
CREATED:20260316T125844Z
LAST-MODIFIED:20260316T125852Z
UID:10000284-1776358800-1776373200@pagop.org
SUMMARY:McKean County Annual Spring Social
DESCRIPTION:Keynote Speaker – Jason Richey Republican Candidate for Lt. Governor \n\n\n\nAdditional Speaker Ms. Andrea Raffle\, Pa. Young Republicans \n\n\n\nJoin us: Thursday\, April 16\, 2026 Doors open at 5 pm Program begins at 6 pm Pennhills Club\, Bradford\, Pa \n\n\n\nEvent Sponsor Opportunities Table Sponsor: $500 (8 tickets) Event Sponsor: $250 (4 tickets) Couple Sponsor: $125 (2 tickets) Individual Ticket: $50 per person \n\n\n\nRSVP by 4/10/2026 to selah@hatchmedicare.com or text or call 814.596.6239 \n\n\n\nPaid for by the McKean County Republican Committee
URL:https://pagop.org/details/mckean-county-annual-spring-social/
ATTACH;FMTTYPE=image/jpeg:https://pagop.org/wp-content/uploads/2026/03/B085A0C5-850C-4AB3-A0D5-8C13378AAA8C.jpeg
END:VEVENT
END:VCALENDAR